BEGIN:VCALENDAR
VERSION:2.0
PRODID:-//ChamberMaster//Event Calendar 2.0//EN
METHOD:PUBLISH
X-PUBLISHED-TTL:P3D
REFRESH-INTERVAL:P3D
CALSCALE:GREGORIAN
BEGIN:VEVENT
DTSTART:20180909T000000Z
DTEND:20180909T030000Z
X-MICROSOFT-CDO-ALLDAYEVENT:FALSE
SUMMARY:Chandlore
DESCRIPTION:ChandLore kicks off the fall event season on Saturday\, September 8th from 5 to 8 p.m. turning Downtown Chandler into a living history experience. Historic members of our community will be brought back to life through the talented actors from ImprovMANIA. As part of this re-creation\, musical performances will be scattered throughout the colonnade area.\n\nMusical performances include\; Igor the Jazz Cowboy\, who has completed his fifth performance on ABC TV's Gong Show\, the world traveled Nuance String Quartet will perform ragtime tunes\, Dan Ryan and his Barber Shop Quartet\, celebrating 40 years of performing together and Sheila Maguire fiddling traditional Irish and folk melodies to bring you back in time. \n\nBusinesses will also be participating in 1912 offering\, celebrating the founding year with specials. If your business is participating with a offering we encourage you to promote your special with the media platforms you use to further promote the event.
X-ALT-DESC;FMTTYPE=text/html:<strong><span style="color:#222222\;"><span style="font-family:georgia\,serif\;"><span style="font-size:9.0pt\;">ChandLore</span></span></span></strong><span style="color:#222222\;"><span style="font-family:georgia\,serif\;"><span style="font-size:9.0pt\;"> kicks off the fall event season on Saturday\, September 8th from 5 to 8 p.m. turning Downtown Chandler&nbsp\;into a living history experience. Historic members of our community will be brought back to life through&nbsp\;the talented actors from ImprovMANIA. As part of this re-creation\, musical performances will be scattered throughout the colonnade area.<br />\nMusical performances include\; Igor the Jazz Cowboy\, who has completed his fifth performance on ABC TV&#39\;s Gong Show\, the world traveled Nuance String Quartet will perform ragtime tunes\, Dan Ryan and his Barber Shop Quartet\, celebrating 40 years of performing together and Sheila Maguire fiddling traditional Irish and folk melodies to bring you back in time.&nbsp\;<br />\nBusinesses will also be participating in 1912 offering\, celebrating the founding year with specials. If your business is participating with a offering we encourage you to promote your special with the media platforms you use to further promote the event.</span></span></span><br />\n&nbsp\;
LOCATION:Downtown Chandler
UID:e.1561.34166
SEQUENCE:3
DTSTAMP:20260423T122207Z
URL:https://business.chandlerchamber.com/events/details/chandlore-34166
END:VEVENT

END:VCALENDAR
