BEGIN:VCALENDAR
VERSION:2.0
PRODID:-//ChamberMaster//Event Calendar 2.0//EN
METHOD:PUBLISH
X-PUBLISHED-TTL:P3D
REFRESH-INTERVAL:P3D
CALSCALE:GREGORIAN
BEGIN:VEVENT
DTSTART:20200229T170000Z
DTEND:20200229T190000Z
X-MICROSOFT-CDO-ALLDAYEVENT:FALSE
SUMMARY:Chili Bourbon & Beer Festival
DESCRIPTION:
X-ALT-DESC;FMTTYPE=text/html:
LOCATION:Dr. A.J. Chandler Park Stage Plaza
UID:e.1561.38878
SEQUENCE:3
DTSTAMP:20260420T152159Z
URL:https://business.chandlerchamber.com/events/details/chili-bourbon-beer-festival-38878
END:VEVENT

END:VCALENDAR
