BEGIN:VCALENDAR
VERSION:2.0
PRODID:-//ChamberMaster//Event Calendar 2.0//EN
METHOD:PUBLISH
X-PUBLISHED-TTL:P3D
REFRESH-INTERVAL:P3D
CALSCALE:GREGORIAN
BEGIN:VEVENT
DTSTART:20190503T180000Z
DTEND:20190503T200000Z
X-MICROSOFT-CDO-ALLDAYEVENT:FALSE
SUMMARY:Cinco de Mayo Celebration at Clarendale Chandler
DESCRIPTION:Clarendale Chandler - Join us for our Cinco de Mayo Celebration
X-ALT-DESC;FMTTYPE=text/html:Clarendale Chandler - Join us for our Cinco de Mayo Celebration
LOCATION:Clarendale Chandler 5980 S Cooper Rd Suite 3 Chanlder AZ 85249
UID:e.1561.36689
SEQUENCE:3
DTSTAMP:20260423T021216Z
URL:https://business.chandlerchamber.com/events/details/cinco-de-mayo-celebration-at-clarendale-chandler-36689
END:VEVENT

END:VCALENDAR
