BEGIN:VCALENDAR
VERSION:2.0
PRODID:-//ChamberMaster//Event Calendar 2.0//EN
METHOD:PUBLISH
X-PUBLISHED-TTL:P3D
REFRESH-INTERVAL:P3D
CALSCALE:GREGORIAN
BEGIN:VEVENT
DTSTART:20260509T013000Z
DTEND:20260509T050000Z
X-MICROSOFT-CDO-ALLDAYEVENT:FALSE
SUMMARY:CinePark May Movie Series- Lilo and Stitch
DESCRIPTION:Enjoy a movie night under the stars at Tumbleweed Park. This evening of outdoor movie entertainment on a giant screen is suitable for the whole family. The first three Fridays in May will bring a different movie each night. Feel free to bring a blanket\, lawn chairs\, etc. to sit on and enjoy this cinematic experience. \n\nCrafts and activities begin at 6:30 p.m.\, the movie begins promptly at 8 p.m.
X-ALT-DESC;FMTTYPE=text/html:<p style="box-sizing: border-box\; margin: 0px 0px 10px\; color: rgb(74\, 74\, 74)\; font-family: open_sansregular\, Helvetica\, Arial\, sans-serif\; font-size: 18px\;"><span style="box-sizing: border-box\;">Enjoy a&nbsp\;movie night under the stars at Tumbleweed Park.&nbsp\;This evening of outdoor movie entertainment on a giant screen is suitable for the whole family. The first three Fridays in May will bring a different movie each night. Feel free to bring a blanket\, lawn chairs\, etc. to sit on and enjoy this cinematic experience.&nbsp\;</span></p>\n\n<p style="box-sizing: border-box\; margin: 0px 0px 10px\; color: rgb(74\, 74\, 74)\; font-family: open_sansregular\, Helvetica\, Arial\, sans-serif\; font-size: 18px\;"><span style="box-sizing: border-box\;">Crafts and activities begin at 6:30 p.m.\, the movie begins promptly at 8 p.m.</span></p>\n
LOCATION:Tumbleweed Park 2250 S. McQueen Road Chandler\, AZ 85286
UID:e.1561.52320
SEQUENCE:3
DTSTAMP:20260422T184813Z
URL:https://business.chandlerchamber.com/events/details/cinepark-may-movie-series-lilo-and-stitch-52320
END:VEVENT

END:VCALENDAR
