BEGIN:VCALENDAR
VERSION:2.0
PRODID:-//ChamberMaster//Event Calendar 2.0//EN
METHOD:PUBLISH
X-PUBLISHED-TTL:P3D
REFRESH-INTERVAL:P3D
CALSCALE:GREGORIAN
BEGIN:VEVENT
DTSTART:20261115T020000Z
DTEND:20261115T050000Z
X-MICROSOFT-CDO-ALLDAYEVENT:FALSE
SUMMARY:Cirque Mechanics
DESCRIPTION:: In Tilt!\, Cirque Mechanics takes audiences on a high-flying journey through the magic\, thrills\, and nostalgia of America's iconic 1980s amusement parks. Bursting with jaw-dropping acrobatics\, breathtaking aerial artistry\, daring juggling\, and inventive mechanical marvels\, Tilt! reimagines the park experience through Cirque Mechanics' signature blend of storytelling and man-powered engineering. At the heart of the spectacle is an awe-inspiring\, giant man-powered Ferris Wheel\, surrounded by whimsical human-driven contraptions that evoke the classic rides and games of the era.
X-ALT-DESC;FMTTYPE=text/html:: In Tilt!\, Cirque Mechanics takes audiences on a high-flying journey through the magic\, thrills\, and nostalgia of America&rsquo\;s iconic 1980s amusement parks. Bursting with jaw-dropping acrobatics\, breathtaking aerial artistry\, daring juggling\, and inventive mechanical marvels\, Tilt! reimagines the park experience through Cirque Mechanics&rsquo\; signature blend of storytelling and man-powered engineering. At the heart of the spectacle is an awe-inspiring\, giant man-powered Ferris Wheel\, surrounded by whimsical human-driven contraptions that evoke the classic rides and games of the era.
LOCATION:Chandler Center for the Arts 250 N Arizona Ave
UID:e.1561.52325
SEQUENCE:3
DTSTAMP:20260424T092502Z
URL:https://business.chandlerchamber.com/events/details/cirque-mechanics-11-14-2026-52325
END:VEVENT

END:VCALENDAR
