BEGIN:VCALENDAR
VERSION:2.0
PRODID:-//ChamberMaster//Event Calendar 2.0//EN
METHOD:PUBLISH
X-PUBLISHED-TTL:P3D
REFRESH-INTERVAL:P3D
CALSCALE:GREGORIAN
BEGIN:VEVENT
DTSTART:20220324T160000Z
DTEND:20220324T210000Z
X-MICROSOFT-CDO-ALLDAYEVENT:FALSE
SUMMARY:City of Chandler Blood Drive
DESCRIPTION:Help support Chandler Regional Medical Center and every hospital in Maricopa County with a blood donation! Advance appointment are encouraged to help maintain social distancing. Visit the link to schedule an appointment.\n\n\n\n*Regardless of vaccination status\, all donors must bring and wear a mask or cloth-based face covering.
X-ALT-DESC;FMTTYPE=text/html:Help support Chandler Regional Medical Center and every hospital in Maricopa County with a blood donation! Advance appointment are encouraged to help maintain social distancing. Visit the <a href="https://donors.vitalant.org/dwp/portal/dwa/appointment/guest/phl/timeSlotsExtr?token=RdiC6WOMLlvEuyimgjyJWS6dvx4Yl%2FkFNSc2SF4GXRc%3D">link</a> to schedule an appointment.<br />\n<br />\n*Regardless of vaccination status\, all donors must bring and wear a mask or cloth-based face covering.
LOCATION:Chandler Community Center 200 E Commonwealth Ave Chandler\, AZ 85225 Room #109
UID:e.1561.40634
SEQUENCE:3
DTSTAMP:20260423T234652Z
URL:https://business.chandlerchamber.com/events/details/city-of-chandler-blood-drive-40634
END:VEVENT

END:VCALENDAR
