BEGIN:VCALENDAR
VERSION:2.0
PRODID:-//ChamberMaster//Event Calendar 2.0//EN
METHOD:PUBLISH
X-PUBLISHED-TTL:P3D
REFRESH-INTERVAL:P3D
CALSCALE:GREGORIAN
BEGIN:VEVENT
DTSTART:20180830T153000Z
DTEND:20180830T203000Z
X-MICROSOFT-CDO-ALLDAYEVENT:FALSE
SUMMARY:City of Chandler Community Blood Drive
DESCRIPTION:Schedule an appointment at www.BloodHero.com code: cityofchandler or call 1-877-UBS-HERO. . Contribute to the blood supply for Chandler Regional Medical Center and every hospital in Maricopa County.
X-ALT-DESC;FMTTYPE=text/html:Schedule an appointment at www.BloodHero.com code: cityofchandler or call 1-877-UBS-HERO. . Contribute to the blood supply for Chandler Regional Medical Center and every hospital in Maricopa County.
LOCATION:200 E Commonwealth Avenue Chandler Community Center Room 109
UID:e.1561.33690
SEQUENCE:3
DTSTAMP:20260423T152451Z
URL:https://business.chandlerchamber.com/events/details/city-of-chandler-community-blood-drive-33690
END:VEVENT

END:VCALENDAR
