BEGIN:VCALENDAR
VERSION:2.0
PRODID:-//ChamberMaster//Event Calendar 2.0//EN
METHOD:PUBLISH
X-PUBLISHED-TTL:P3D
REFRESH-INTERVAL:P3D
CALSCALE:GREGORIAN
BEGIN:VEVENT
DTSTART:20190413T160000Z
DTEND:20190413T180000Z
X-MICROSOFT-CDO-ALLDAYEVENT:FALSE
SUMMARY:Clarendale Chandler - Fuel Your Mind & Body
DESCRIPTION:Join us for a health and wellness event for seniors with guest speakers\, refreshments and entertainment.
X-ALT-DESC;FMTTYPE=text/html:Join us for a health and wellness event for seniors with guest speakers\, refreshments and entertainment.
LOCATION:Clarendale of Chandler Information Center 5980 S Cooper Rd\, Suite 3 Chandler\, AZ 85249
UID:e.1561.36685
SEQUENCE:3
DTSTAMP:20260423T033552Z
URL:https://business.chandlerchamber.com/events/details/clarendale-chandler-fuel-your-mind-body-36685
END:VEVENT

END:VCALENDAR
