BEGIN:VCALENDAR
VERSION:2.0
PRODID:-//ChamberMaster//Event Calendar 2.0//EN
METHOD:PUBLISH
X-PUBLISHED-TTL:P3D
REFRESH-INTERVAL:P3D
CALSCALE:GREGORIAN
BEGIN:VEVENT
DTSTART:20190419T160000Z
DTEND:20190419T200000Z
X-MICROSOFT-CDO-ALLDAYEVENT:FALSE
SUMMARY:Clarendale Chandler - Shred It & Forget It!
DESCRIPTION:Clarendale of Chandler has invited Premier Document Services to bring their locked totes and secured box truck to our information center to collect your documents for FREE shredding! Drop off up to 3 boxes of documents for shredding! Meet the Clarendale team and enjoy delicious refreshments.
X-ALT-DESC;FMTTYPE=text/html:Clarendale of Chandler has invited Premier Document Services to bring their locked totes and secured box truck to our information center to collect your documents for FREE shredding! Drop off up to 3 boxes of documents for shredding! Meet the Clarendale team and enjoy delicious refreshments.
LOCATION:Clarendale of Chandler Information Center 5980 S Cooper Rd Suite 3 Chandler AZ 85249
UID:e.1561.36688
SEQUENCE:3
DTSTAMP:20260423T033252Z
URL:https://business.chandlerchamber.com/events/details/clarendale-chandler-shred-it-forget-it-36688
END:VEVENT

END:VCALENDAR
