BEGIN:VCALENDAR
VERSION:2.0
PRODID:-//ChamberMaster//Event Calendar 2.0//EN
METHOD:PUBLISH
X-PUBLISHED-TTL:P3D
REFRESH-INTERVAL:P3D
CALSCALE:GREGORIAN
BEGIN:VEVENT
DTSTART;VALUE=DATE:20170923
DTEND;VALUE=DATE:20170924
TRANSP:TRANSPARENT
X-MICROSOFT-CDO-ALLDAYEVENT:TRUE
SUMMARY:Classic Car\, Truck and Bike Show
DESCRIPTION:Classic Car\, Truck\, and Bike show at the Chandler American Legion Post 35 to benefit Soldiers Friends Therapy Dogs. Goodie bags will be handed out to attendees while they last.
X-ALT-DESC;FMTTYPE=text/html:Classic Car\, Truck\, and Bike show at the Chandler American Legion Post 35 to benefit Soldiers Friends Therapy Dogs. Goodie bags will be handed out to attendees while they last.
LOCATION:American Legion Post 35 2240 W Chandler Blvd Chandler\, AZ 85225
UID:e.1561.19047
SEQUENCE:3
DTSTAMP:20260424T051538Z
URL:https://business.chandlerchamber.com/events/details/classic-car-truck-and-bike-show-19047
END:VEVENT

END:VCALENDAR
