BEGIN:VCALENDAR
VERSION:2.0
PRODID:-//ChamberMaster//Event Calendar 2.0//EN
METHOD:PUBLISH
X-PUBLISHED-TTL:P3D
REFRESH-INTERVAL:P3D
CALSCALE:GREGORIAN
BEGIN:VEVENT
DTSTART:20190619T010000Z
DTEND:20190619T030000Z
X-MICROSOFT-CDO-ALLDAYEVENT:FALSE
SUMMARY:CMOA Juneteenth Social
DESCRIPTION:Chandler Men of Action Juneteenth Social
X-ALT-DESC;FMTTYPE=text/html:Chandler Men of Action Juneteenth Social
LOCATION:BKD's Backyard Joint 980 E Pecos Rd\, Chandler\, AZ 85225
UID:e.1561.36749
SEQUENCE:3
DTSTAMP:20260423T003515Z
URL:https://business.chandlerchamber.com/events/details/cmoa-juneteenth-social-36749
END:VEVENT

END:VCALENDAR
