BEGIN:VCALENDAR
VERSION:2.0
PRODID:-//ChamberMaster//Event Calendar 2.0//EN
METHOD:PUBLISH
X-PUBLISHED-TTL:P3D
REFRESH-INTERVAL:P3D
CALSCALE:GREGORIAN
BEGIN:VEVENT
DTSTART:20190529T153000Z
DTEND:20190529T170000Z
X-MICROSOFT-CDO-ALLDAYEVENT:FALSE
SUMMARY:Update from Washington
DESCRIPTION:Join us for this special engagement featuring an update from Washington with Senator\n\nMartha McSally\, Congressman Greg Stanton and Congressman Andy Biggs moderated by\n\nJason Bagley\, Director\, State Government Relations\, Intel.
X-ALT-DESC;FMTTYPE=text/html:<span style="font-weight:bold\;language:en-US\;"><span style="font-family:calibri\;"><span style="font-size:12.0pt\;">Join us for this special engagement featuring an update from Washington with Senator<br />\nMartha McSally\, Congressman Greg Stanton and Congressman Andy Biggs moderated by<br />\nJason Bagley\, Director\, State Government Relations\, Intel.</span></span></span><br />\n&nbsp\;
LOCATION:Chandler-Gilbert Community College Performing Arts Center 2626 E Pecos Rd Chandler\, AZ 85225
UID:e.1561.36647
SEQUENCE:3
DTSTAMP:20260422T122938Z
URL:https://business.chandlerchamber.com/events/details/coffee-with-congress-36647
END:VEVENT

END:VCALENDAR
