BEGIN:VCALENDAR
VERSION:2.0
PRODID:-//ChamberMaster//Event Calendar 2.0//EN
METHOD:PUBLISH
X-PUBLISHED-TTL:P3D
REFRESH-INTERVAL:P3D
CALSCALE:GREGORIAN
BEGIN:VEVENT
DTSTART:20170803T153000Z
DTEND:20170803T163000Z
X-MICROSOFT-CDO-ALLDAYEVENT:FALSE
SUMMARY:Coffee with Congressman Biggs
DESCRIPTION:The Chandler Chamber is proud to present Coffee with the Congressman.  Join us for a great cup of Peixoto Coffee and remarks\, question and answers with US House of Representatives Congressman Andy Biggs of Arizona's 5th congressional district.\n\nThank you to Phoenix-Mesa Gateway Airport Authority for sponsoring this event.
X-ALT-DESC;FMTTYPE=text/html:The Chandler Chamber is proud to present Coffee with the Congressman. &nbsp\;Join us for a great cup of Peixoto Coffee and remarks\, question and answers with US House of Representatives Congressman Andy Biggs of Arizona&#39\;s 5th congressional district.<br />\nThank you to Phoenix-Mesa Gateway Airport Authority for sponsoring this event.
LOCATION:Chandler Chamber of Commerce 25 S Arizona Place\, #201 Chandler\, AZ 85225
UID:e.1561.18891
SEQUENCE:3
DTSTAMP:20260424T063659Z
URL:https://business.chandlerchamber.com/events/details/coffee-with-congressman-biggs-18891
END:VEVENT

END:VCALENDAR
