BEGIN:VCALENDAR
VERSION:2.0
PRODID:-//ChamberMaster//Event Calendar 2.0//EN
METHOD:PUBLISH
X-PUBLISHED-TTL:P3D
REFRESH-INTERVAL:P3D
CALSCALE:GREGORIAN
BEGIN:VEVENT
DTSTART:20180404T150000Z
DTEND:20180404T163000Z
X-MICROSOFT-CDO-ALLDAYEVENT:FALSE
SUMMARY:Coffee with the Congressman
DESCRIPTION:Congressman Andy Biggs will deliver an update on his legislative agenda and be honored by the U.S. Chamber with the Spirit of Enterprise Award for promoting small business and economic development.  \n\nAshley Wilson\, Vice President of Legislative Tax Strategies for the U.S. Chamber will provide an overview of the tax reform package\, give a behind-the-scenes look at how it got done\, and discuss what's next.
X-ALT-DESC;FMTTYPE=text/html:<p>Congressman Andy Biggs will deliver an update on his legislative agenda and be honored by the&nbsp\;U.S. Chamber&nbsp\;with the Spirit of Enterprise Award for promoting small business and economic development. &nbsp\;</p>\n\n<p>Ashley Wilson\, Vice President of Legislative Tax Strategies for the U.S. Chamber&nbsp\;will provide an overview of the tax reform package\, give a behind-the-scenes look at how it got done\, and discuss what&rsquo\;s next.</p>\n
LOCATION:Chandler Chamber 25 S Arizona Place\, #201 Chandler\, AZ\, 85225
UID:e.1561.32604
SEQUENCE:3
DTSTAMP:20260423T193143Z
URL:https://business.chandlerchamber.com/events/details/coffee-with-the-congressman-32604
END:VEVENT

END:VCALENDAR
