BEGIN:VCALENDAR
VERSION:2.0
PRODID:-//ChamberMaster//Event Calendar 2.0//EN
METHOD:PUBLISH
X-PUBLISHED-TTL:P3D
REFRESH-INTERVAL:P3D
CALSCALE:GREGORIAN
BEGIN:VEVENT
DTSTART:20171024T150000Z
DTEND:20171024T160000Z
X-MICROSOFT-CDO-ALLDAYEVENT:FALSE
SUMMARY:Coffee with the Mayor 2017
DESCRIPTION:Please note venue change to Soho 63\n\nEnjoy coffee with Chandler Mayor Jay Tibshraeny.  It is a great way to find out what is going on in the city for businesses and community.\n\nWhile this event is free\, please register your attendance.
X-ALT-DESC;FMTTYPE=text/html:<p><span style="font-size:16px\;"><span style="font-family:arial\;"><span style="color:#FF0000\;"><strong>Please note venue change to Soho 63</strong></span><br />\n<span style="color:#000000\;">Enjoy coffee with Chandler Mayor Jay Tibshraeny.&nbsp\; It is a great way to find out what is going on in the city for businesses and community.</span></span></span></p>\n\n<p>While this event is free\, please register your attendance.</p>\n
LOCATION:SoHo 63 63 E Boston St. Chandler\, AZ 85225
UID:e.1561.17839
SEQUENCE:3
DTSTAMP:20260424T034228Z
URL:https://business.chandlerchamber.com/events/details/coffee-with-the-mayor-2017-17839
END:VEVENT

END:VCALENDAR
