BEGIN:VCALENDAR
VERSION:2.0
PRODID:-//ChamberMaster//Event Calendar 2.0//EN
METHOD:PUBLISH
X-PUBLISHED-TTL:P3D
REFRESH-INTERVAL:P3D
CALSCALE:GREGORIAN
BEGIN:VEVENT
DTSTART:20190423T150000Z
DTEND:20190423T163000Z
X-MICROSOFT-CDO-ALLDAYEVENT:FALSE
SUMMARY:Coffee with the Mayor
DESCRIPTION:Enjoy coffee with Chandler Mayor Kevin Hartke at the Chamber office.  It is a great way to find out what is going on in the city for businesses and community.\nThis event is at Capacity and Registration is CLOSED!
X-ALT-DESC;FMTTYPE=text/html:<span style="font-size: 16px\;"><span style="font-family: arial\;"><span style="color: rgb(0\, 0\, 0)\;">Enjoy coffee with Chandler Mayor Kevin Hartke at the Chamber office. &nbsp\;It is a great way to find out what is going on in the city for businesses and community.</span></span></span>\n<p style="background-color: transparent\; color: rgb(51\, 51\, 51)\; cursor: text\; font-family: sans-serif\,Arial\,Verdana\,&amp\;quot\;Trebuchet MS&amp\;quot\;\; font-size: 13px\; font-style: normal\; font-variant: normal\; font-weight: 400\; letter-spacing: normal\; line-height: 20.8px\; margin-bottom: 13px\; margin-left: 0px\; margin-right: 0px\; margin-top: 13px\; orphans: 2\; text-align: left\; text-decoration: none\; text-indent: 0px\; text-transform: none\; -webkit-text-stroke-width: 0px\; white-space: normal\; word-spacing: 0px\;"><span style="color:#FF0000\;"><span style="font-size:18px\;"><strong>This event is at Capacity and Registration is CLOSED!</strong></span></span></p>\n
LOCATION:Chandler Chamber of Commerce 25 S Arizona Place Suite 201 Chandler\, AZ 85225
UID:e.1561.35929
SEQUENCE:3
DTSTAMP:20260423T033048Z
URL:https://business.chandlerchamber.com/events/details/coffee-with-the-mayor-35929
END:VEVENT

END:VCALENDAR
