BEGIN:VCALENDAR
VERSION:2.0
PRODID:-//ChamberMaster//Event Calendar 2.0//EN
METHOD:PUBLISH
X-PUBLISHED-TTL:P3D
REFRESH-INTERVAL:P3D
CALSCALE:GREGORIAN
BEGIN:VEVENT
DTSTART:20180424T150000Z
DTEND:20180424T160000Z
X-MICROSOFT-CDO-ALLDAYEVENT:FALSE
SUMMARY:Coffee with the Mayor - April 24\, 2018
DESCRIPTION:Enjoy coffee with Chandler Mayor Jay Tibshraeny at the Chamber office.  It is a great way to find out what is going on in the city for businesses and community.\n\nWhile this event is free\, please register your attendance.
X-ALT-DESC;FMTTYPE=text/html:<p><span style="font-size:16px\;"><span style="font-family:arial\;"><span style="color:#000000\;">Enjoy coffee with Chandler Mayor Jay Tibshraeny&nbsp\;at the Chamber office. &nbsp\;It is a great way to find out what is going on in the city for businesses and community.</span></span></span></p>\n\n<p>While this event is free\, please register your attendance.</p>\n
LOCATION:Chandler Chamber of Commerce 25 S Arizona Pl Ste 201 Chandler\, AZ 85225
UID:e.1561.20511
SEQUENCE:3
DTSTAMP:20260423T193439Z
URL:https://business.chandlerchamber.com/events/details/coffee-with-the-mayor-april-24-2018-20511
END:VEVENT

END:VCALENDAR
