BEGIN:VCALENDAR
VERSION:2.0
PRODID:-//ChamberMaster//Event Calendar 2.0//EN
METHOD:PUBLISH
X-PUBLISHED-TTL:P3D
REFRESH-INTERVAL:P3D
CALSCALE:GREGORIAN
BEGIN:VEVENT
DTSTART:20150428T150000Z
DTEND:20150428T160000Z
X-MICROSOFT-CDO-ALLDAYEVENT:FALSE
SUMMARY:Coffee with the Mayor - April 28\, 2015
DESCRIPTION:Join us for Coffee with Mayor Tibshraeny discussing business issues in Chandler.
X-ALT-DESC;FMTTYPE=text/html:Join us for Coffee with Mayor Tibshraeny discussing business issues in Chandler.
LOCATION:Chandler Chamber of Commerce 25 S Arizona Place Suite 201 Chandler\, AZ 85225
UID:e.1561.12486
SEQUENCE:3
DTSTAMP:20260425T213245Z
URL:https://business.chandlerchamber.com/events/details/coffee-with-the-mayor-april-28-2015-04-28-2015-12486
END:VEVENT

END:VCALENDAR
