BEGIN:VCALENDAR
VERSION:2.0
PRODID:-//ChamberMaster//Event Calendar 2.0//EN
METHOD:PUBLISH
X-PUBLISHED-TTL:P3D
REFRESH-INTERVAL:P3D
CALSCALE:GREGORIAN
BEGIN:VEVENT
DTSTART:20200428T150000Z
DTEND:20200428T163000Z
X-MICROSOFT-CDO-ALLDAYEVENT:FALSE
SUMMARY:Coffee with the Mayor-Virtual Interactive Zoom
DESCRIPTION:MEMBERS ONLY\n\n8:00 AM Arizona Time\n\nEnjoy a virtual coffee with Chandler Mayor Kevin Hartke on the Chandler Chamber of Commerce. It is a great way to get updates on the city and business community. Please register on this page to receive the link for the Zoom meeting. On the registration page\, there is an option to submit a question for Mayor Hartke to answer. Once you register\, instructions on how to access the Zoom event will be sent to you. The Zoom event will begin at 8:00am.\n\nThe Coffee with the Mayor Series is for Chamber members only.
X-ALT-DESC;FMTTYPE=text/html:<p><span style="font-size: 16px\;"><span style="font-family: arial\;"><span style="color: rgb(0\, 0\, 0)\;"><strong>MEMBERS ONLY</strong></span><br />\n<span style="color: rgb(0\, 0\, 205)\;"><strong>8:00 AM Arizona Time</strong></span><br />\n<span style="color: rgb(0\, 0\, 0)\;">Enjoy a virtual coffee with Chandler Mayor Kevin Hartke on the Chandler Chamber of Commerce. It is a great way to get updates on the city and business community. Please register on this page to receive the link for the Zoom meeting.&nbsp\;On the registration page\, there is an option to submit a question for Mayor Hartke to answer. Once you register\, instructions on how to access the Zoom event will be sent to you. The Zoom event will begin at 8:00am.</span></span></span></p>\n\n<p><span style="font-size: 16px\;"><span style="font-family: arial\;"><span style="color: rgb(0\, 0\, 0)\;">The&nbsp\;Coffee with the Mayor&nbsp\;Series is for Chamber members only.</span></span></span></p>\n\n<p style="margin: 13px 0px\; text-align: left\; color: rgb(51\, 51\, 51)\; text-transform: none\; line-height: 20.8px\; text-indent: 0px\; letter-spacing: normal\; font-size: 13px\; font-style: normal\; font-variant: normal\; font-weight: 400\; text-decoration: none\; word-spacing: 0px\; white-space: normal\; cursor: text\; orphans: 2\; background-color: transparent\; -webkit-text-stroke-width: 0px\;">&nbsp\;</p>\n
LOCATION:Thank you for registering for Virtual Coffee with the Mayor on April 28\, 2020 at 8:00am. To access this zoom event\, instructions are below. When: Apr 28\, 2020 08:00 AM Arizona Topic: Coffee with the Mayor Please click the link below to join the webinar: https://zoom.us/j/427246444?pwd=RFNyaWEzcUhYSmExK2w3MXhzRWRPZz09 Password: 657516 Or iPhone one-tap : US: +13462487799\,\,427246444# or +16699009128\,\,427246444# Or Telephone: Dial(for higher quality\, dial a number based on your current location): US: +1 346 248 7799 or +1 669 900 9128 or +1 253 215 8782 or +1 301 715 8592 or +1 312 626 6799 or +1 646 558 8656 Webinar ID: 427 246 444 International numbers available: https://zoom.us/u/aV2y43PyA
UID:e.1561.38121
SEQUENCE:3
DTSTAMP:20260424T150051Z
URL:https://business.chandlerchamber.com/events/details/coffee-with-the-mayor-virtual-interactive-zoom-38121
END:VEVENT

END:VCALENDAR
