BEGIN:VCALENDAR
VERSION:2.0
PRODID:-//ChamberMaster//Event Calendar 2.0//EN
METHOD:PUBLISH
X-PUBLISHED-TTL:P3D
REFRESH-INTERVAL:P3D
CALSCALE:GREGORIAN
BEGIN:VEVENT
DTSTART:20190405T210000Z
DTEND:20190405T220000Z
X-MICROSOFT-CDO-ALLDAYEVENT:FALSE
SUMMARY:Community Awards Committee Meeting
DESCRIPTION:Community Awards Committee Meeting
X-ALT-DESC;FMTTYPE=text/html:Community Awards Committee Meeting
LOCATION:Chandler Chamber of Commerce 25 S. Arizona Place Suite 201 Chandler\, AZ 85225
UID:e.1561.36313
SEQUENCE:3
DTSTAMP:20260423T033457Z
URL:https://business.chandlerchamber.com/events/details/community-awards-committee-meeting-04-05-2019-36313
END:VEVENT

END:VCALENDAR
