BEGIN:VCALENDAR
VERSION:2.0
PRODID:-//ChamberMaster//Event Calendar 2.0//EN
METHOD:PUBLISH
X-PUBLISHED-TTL:P3D
REFRESH-INTERVAL:P3D
CALSCALE:GREGORIAN
BEGIN:VEVENT
DTSTART:20251108T160000Z
DTEND:20251108T200000Z
X-MICROSOFT-CDO-ALLDAYEVENT:FALSE
SUMMARY:Community Give Back Event
DESCRIPTION:Our first annual Community Give Back event is taking place Saturday\, November 8 from 9 am to 1 pm in Chandler!\n\nHosted by Arizona Elite Properties and the Elite Business Alliance\, this is our way of saying thanks and giving back to the community we love.\n\nTickets to this event are free. Families and friends are welcome!\n\nEnjoy this festival-type event with activities and bounce houses for the kids\, a classic car show\, food trucks\, and vendors to start your holiday shopping early!\n\nRegister and tell your family and friends!\nVendor and sponsor spots are also available. Inquire at info@elitebusinessalliance.net for details.
X-ALT-DESC;FMTTYPE=text/html:<p>Our first annual Community Give Back event is taking place Saturday\, November 8 from 9 am to 1 pm in Chandler!</p>\n\n<p>Hosted by Arizona Elite Properties and the Elite Business Alliance\, this is our way of saying thanks and giving back to the community we love.</p>\n\n<p>Tickets to this event are free. Families and friends are welcome!</p>\n\n<p>Enjoy this festival-type event with activities and bounce houses for the kids\, a classic car show\, food trucks\, and vendors to start your holiday shopping early!</p>\n\n<p>Register and tell your family and friends!</p>\nVendor and sponsor spots are also available. Inquire at info@elitebusinessalliance.net for details.&nbsp\;
LOCATION:Arizona Elite Properties Parking Lot 2425 S. Stearman Drive Chandler\, AZ 85286
UID:e.1561.51843
SEQUENCE:3
DTSTAMP:20260424T063552Z
URL:https://business.chandlerchamber.com/events/details/community-give-back-event-51843
END:VEVENT

END:VCALENDAR
