BEGIN:VCALENDAR
VERSION:2.0
PRODID:-//ChamberMaster//Event Calendar 2.0//EN
METHOD:PUBLISH
X-PUBLISHED-TTL:P3D
REFRESH-INTERVAL:P3D
CALSCALE:GREGORIAN
BEGIN:VEVENT
DTSTART:20180208T003000Z
DTEND:20180208T025000Z
X-MICROSOFT-CDO-ALLDAYEVENT:FALSE
SUMMARY:Consumer Insights--What They Mean to the Growth of Your Business
DESCRIPTION:Whether a startup\, small or large business\, understanding the needs and wants of customers is the key to success. Using real world examples\, this workshop provides guidance for understanding how to get and keep customers. It explains when and how popular tools such as focus groups\, customer surveys\, and brainstorming can be economically used.
X-ALT-DESC;FMTTYPE=text/html:Whether a startup\, small or large business\, understanding the needs and wants of customers is the key to success. Using real world examples\, this workshop provides guidance for understanding how to get and keep customers. It explains when and how popular tools such as focus groups\, customer surveys\, and brainstorming can be economically used.
LOCATION:Tempe Public Library 3500 South Rural Road Business Resource and Innovation Center (BRiC) Tempe\, AZ\, 85282
UID:e.1561.20914
SEQUENCE:3
DTSTAMP:20260423T220209Z
URL:https://business.chandlerchamber.com/events/details/consumer-insights-what-they-mean-to-the-growth-of-your-business-20914
END:VEVENT

END:VCALENDAR
