BEGIN:VCALENDAR
VERSION:2.0
PRODID:-//ChamberMaster//Event Calendar 2.0//EN
METHOD:PUBLISH
X-PUBLISHED-TTL:P3D
REFRESH-INTERVAL:P3D
CALSCALE:GREGORIAN
BEGIN:VEVENT
DTSTART:20180414T170000Z
DTEND:20180414T190000Z
X-MICROSOFT-CDO-ALLDAYEVENT:FALSE
SUMMARY:Corvettes in the Park
DESCRIPTION:Guests can view the beautiful Corvette cars parked in Dr. AJ Chandler Park. This event is free-to-attend.
X-ALT-DESC;FMTTYPE=text/html:<span style="margin: 0px\; color: rgb(32\, 32\, 32)\; font-family: &quot\;Helvetica&quot\;\,sans-serif\; font-size: 12pt\;">Guests can view the beautiful Corvette cars parked in Dr. AJ Chandler Park. This event is free-to-attend.&nbsp\;</span>
LOCATION:Downtown Chandler\, AZ
UID:e.1561.33606
SEQUENCE:3
DTSTAMP:20260423T193202Z
URL:https://business.chandlerchamber.com/events/details/corvettes-in-the-park-33606
END:VEVENT

END:VCALENDAR
