BEGIN:VCALENDAR
VERSION:2.0
PRODID:-//ChamberMaster//Event Calendar 2.0//EN
METHOD:PUBLISH
X-PUBLISHED-TTL:P3D
REFRESH-INTERVAL:P3D
CALSCALE:GREGORIAN
BEGIN:VEVENT
DTSTART:20220403T150000Z
DTEND:20220403T210000Z
X-MICROSOFT-CDO-ALLDAYEVENT:FALSE
SUMMARY:Corvettes In The Park
DESCRIPTION:Corvettes In The Park\n\n\n\nMore info coming soon!
X-ALT-DESC;FMTTYPE=text/html:Corvettes In The Park<br />\n<br />\nMore info coming soon!
LOCATION:Dr. AJ Chandler Park 3 S Arizona Ave Chandler\, AZ 85225
UID:e.1561.40624
SEQUENCE:3
DTSTAMP:20260423T221829Z
URL:https://business.chandlerchamber.com/events/details/corvettes-in-the-park-40624
END:VEVENT

END:VCALENDAR
