BEGIN:VCALENDAR
VERSION:2.0
PRODID:-//ChamberMaster//Event Calendar 2.0//EN
METHOD:PUBLISH
X-PUBLISHED-TTL:P3D
REFRESH-INTERVAL:P3D
CALSCALE:GREGORIAN
BEGIN:VEVENT
DTSTART;VALUE=DATE:20190202
DTEND;VALUE=DATE:20190204
TRANSP:TRANSPARENT
X-MICROSOFT-CDO-ALLDAYEVENT:TRUE
SUMMARY:Craft Park Vintage Market
DESCRIPTION:Craft Park Vintage Pop-Up Market is a new market will be taking place once a month on Saturday and Sunday 9AM-4PM. They will have food trucks\, Live music\, Etsy Artists\, and Local Makers! It will be taking place at 281. S Washington St. just follow the red balloons!
X-ALT-DESC;FMTTYPE=text/html:<span style="color: rgb(5\, 5\, 5)\; font-family: Raleway\; font-size: 15px\; white-space: pre-wrap\; background-color: rgb(252\, 252\, 252)\;">Craft Park Vintage Pop-Up Market is a new market will be taking place once a month on Saturday and Sunday 9AM-4PM. They will have food trucks\, Live music\, Etsy Artists\, and Local Makers! It will be taking place at 281. S Washington St. just follow the red balloons!</span>
LOCATION:Downtown Chandler
UID:e.1561.36118
SEQUENCE:3
DTSTAMP:20260423T073530Z
URL:https://business.chandlerchamber.com/events/details/craft-park-vintage-market-36118
END:VEVENT

END:VCALENDAR
