BEGIN:VCALENDAR
VERSION:2.0
PRODID:-//ChamberMaster//Event Calendar 2.0//EN
METHOD:PUBLISH
X-PUBLISHED-TTL:P3D
REFRESH-INTERVAL:P3D
CALSCALE:GREGORIAN
BEGIN:VEVENT
DTSTART:20211012T183000Z
DTEND:20211012T210000Z
X-MICROSOFT-CDO-ALLDAYEVENT:FALSE
SUMMARY:CRE & Higher Ed Partnerships
DESCRIPTION:Join the Arizona Association for Economic Development's luncheon on October 12\, at 11:30 a.m. to learn about CRE & Higher Ed Partnerships: The Risks and Rewards for Attracting Higher Ed to Your Community. Panelists include:   Jennifer Graves\, CEcD\, Deputy Director of Economic Development\, Town of Gilbert   Mike Hoover\, AZED Pro\, Economic Development Manager\, City of Surprise   Kurt Rosene\, Principal\, NOVO Development   Panel Moderator - Matt Avila\, Business Development Manager\, Mortenson The luncheon will cover the multiple funding mechanisms\, potential private partnerships\, and how to navigate the planning and pursuit strategies when pursuing higher education in your community. Registration includes lunch and is $45 for AAED members and $55 for non-members. Thank you to Chanen Construction and Dibble Engineering for sponsoring this event! *All attendees will receive a voucher\, if requested\, for 25% off posted resort golf price and a large complimentary basket of practice balls\, for use on a future date.
X-ALT-DESC;FMTTYPE=text/html:Join the Arizona Association for Economic Development&rsquo\;s luncheon on October 12\, at 11:30 a.m. to learn about CRE &amp\; Higher Ed Partnerships: The Risks and Rewards for Attracting Higher Ed to Your Community. Panelists include: &bull\; Jennifer Graves\, CEcD\, Deputy Director of Economic Development\, Town of Gilbert &bull\; Mike Hoover\, AZED Pro\, Economic Development Manager\, City of Surprise &bull\; Kurt Rosene\, Principal\, NOVO Development &bull\; Panel Moderator - Matt Avila\, Business Development Manager\, Mortenson The luncheon will cover the multiple funding mechanisms\, potential private partnerships\, and how to navigate the planning and pursuit strategies when pursuing higher education in your community. Registration includes lunch and is $45 for AAED members and $55 for non-members. Thank you to Chanen Construction and Dibble Engineering for sponsoring this event! *All attendees will receive a voucher\, if requested\, for 25% off posted resort golf price and a large complimentary basket of practice balls\, for use on a future date.
LOCATION:Papago Event Center 5595 E Karsten Way Phoenix\, Arizona 85008 United States
UID:e.1561.40083
SEQUENCE:3
DTSTAMP:20260423T160827Z
URL:https://business.chandlerchamber.com/events/details/cre-higher-ed-partnerships-40083
END:VEVENT

END:VCALENDAR
