BEGIN:VCALENDAR
VERSION:2.0
PRODID:-//ChamberMaster//Event Calendar 2.0//EN
METHOD:PUBLISH
X-PUBLISHED-TTL:P3D
REFRESH-INTERVAL:P3D
CALSCALE:GREGORIAN
BEGIN:VEVENT
DTSTART:20171018T180000Z
DTEND:20171018T200000Z
X-MICROSOFT-CDO-ALLDAYEVENT:FALSE
SUMMARY:CREATING A SUCCESSFUL VOLUNTEER PROGRAM
DESCRIPTION:This fast-paced 1- hour workshop will touch on the basic components of a successful volunteer program: ? Onboarding (i. e. job descriptions\, applications\, interviews\, orientations\, data management) ? Training (formats\, quantity\, quality) ? Appreciation & Recognition (how? how often?) ? Retention (How do all of the above affect retention?) This interactive training will incorporate visual aids\, brainstorming and small group activities. By the end of the workshop\, attendees will have the basic information they need to create a successful volunteer program.
X-ALT-DESC;FMTTYPE=text/html:This fast-paced 1- hour workshop will touch on the basic components of a successful volunteer program: ? Onboarding (i. e. job descriptions\, applications\, interviews\, orientations\, data management) ? Training (formats\, quantity\, quality) ? Appreciation &amp\; Recognition (how? how often?) ? Retention (How do all of the above affect retention?) This interactive training will incorporate visual aids\, brainstorming and small group activities. By the end of the workshop\, attendees will have the basic information they need to create a successful volunteer program.
LOCATION:Chandler Police substation\, 251 Desert Breeze Blvd\, Chandler\, AZ 85226. The station is just off of Chandler Blvd between Rural Rd and McClintock. There is a traffic light at Desert Breeze Blvd. Go north on Desert Breeze\, Police/Fire station will be on your right. Look for the "Collaborating for a Cause" sign at the public parking entrance. Contact phone: 480-861-5185
UID:e.1561.19170
SEQUENCE:3
DTSTAMP:20260424T034126Z
URL:https://business.chandlerchamber.com/events/details/creating-a-successful-volunteer-program-19170
END:VEVENT

END:VCALENDAR
