BEGIN:VCALENDAR
VERSION:2.0
PRODID:-//ChamberMaster//Event Calendar 2.0//EN
METHOD:PUBLISH
X-PUBLISHED-TTL:P3D
REFRESH-INTERVAL:P3D
CALSCALE:GREGORIAN
BEGIN:VEVENT
DTSTART:20220718T003000Z
DTEND:20220718T053000Z
X-MICROSOFT-CDO-ALLDAYEVENT:FALSE
SUMMARY:Crimson Oath Release Party at Spirit House
DESCRIPTION:Join us at Spirit House in Downtown Chandler on Sunday\, July 17th at 5:30pm for a rare opportunity to sample our latest 4-year single malt whiskey that will be a one-time only release!\n\nLearn from our head distiller\, Brant Gasparek\, about Crimson Oath and the distilling process at SanTan Gardens - Brewery & Distillery. Our award-winning mixologist\, Natasha Hill\, will discuss the history of the Highball and answer any cocktail questions you may have!\n\nEnjoy four cocktails\, a three-course meal\, and a special 20% off discount for all bottle purchases day of the event!
X-ALT-DESC;FMTTYPE=text/html:<p style="margin: 0px\; padding: 0px\; color: rgb(111\, 114\, 135)\; font-size: 16px\; line-height: 1.5rem\; font-family: &quot\;Neue Plak&quot\;\, -apple-system\, BlinkMacSystemFont\, Roboto\, &quot\;Helvetica Neue&quot\;\, Helvetica\, Tahoma\, Arial\, sans-serif\; letter-spacing: 0.5px\;">Join us at Spirit House in Downtown Chandler on Sunday\, July 17th at 5:30pm for a rare opportunity to sample our latest 4-year single malt whiskey that will be a one-time only release!</p>\n\n<p style="margin: 0px\; padding: 10px 0px 0px\; color: rgb(111\, 114\, 135)\; font-size: 16px\; line-height: 1.5rem\; font-family: &quot\;Neue Plak&quot\;\, -apple-system\, BlinkMacSystemFont\, Roboto\, &quot\;Helvetica Neue&quot\;\, Helvetica\, Tahoma\, Arial\, sans-serif\; letter-spacing: 0.5px\;">Learn from our head distiller\, Brant Gasparek\, about Crimson Oath and the distilling process at SanTan Gardens - Brewery &amp\; Distillery. Our award-winning mixologist\, Natasha Hill\, will discuss the history of the Highball and answer any cocktail questions you may have!</p>\n\n<p style="margin: 0px\; padding: 10px 0px 0px\; color: rgb(111\, 114\, 135)\; font-size: 16px\; line-height: 1.5rem\; font-family: &quot\;Neue Plak&quot\;\, -apple-system\, BlinkMacSystemFont\, Roboto\, &quot\;Helvetica Neue&quot\;\, Helvetica\, Tahoma\, Arial\, sans-serif\; letter-spacing: 0.5px\;">Enjoy four cocktails\, a three-course meal\, and a special 20% off discount for all bottle purchases day of the event!</p>\n
LOCATION:Spirit House 8 South San Marcos Place ##106 Chandler\, AZ 85225
UID:e.1561.41033
SEQUENCE:3
DTSTAMP:20260423T175232Z
URL:https://business.chandlerchamber.com/events/details/crimson-oath-release-party-at-spirit-house-41033
END:VEVENT

END:VCALENDAR
