BEGIN:VCALENDAR
VERSION:2.0
PRODID:-//ChamberMaster//Event Calendar 2.0//EN
METHOD:PUBLISH
X-PUBLISHED-TTL:P3D
REFRESH-INTERVAL:P3D
CALSCALE:GREGORIAN
BEGIN:VEVENT
DTSTART:20190416T170000Z
DTEND:20190416T180000Z
X-MICROSOFT-CDO-ALLDAYEVENT:FALSE
SUMMARY:CTown Suitcase Club
DESCRIPTION:A Free preschool program\, held for 3-5 year olds and their caregivers\, explores everyday objects from the past. The group travels through time enjoying musical\, hands-on and theme based activities.
X-ALT-DESC;FMTTYPE=text/html:A Free preschool program\, held for 3-5 year olds and their caregivers\, explores everyday objects from the past. The group travels through time enjoying musical\, hands-on and theme based activities.
LOCATION:Chandler Museum 300 S. Chandler Village Dr. 85226
UID:e.1561.36626
SEQUENCE:3
DTSTAMP:20260423T033150Z
URL:https://business.chandlerchamber.com/events/details/ctown-suitcase-club-36626
END:VEVENT

END:VCALENDAR
