BEGIN:VCALENDAR
VERSION:2.0
PRODID:-//ChamberMaster//Event Calendar 2.0//EN
METHOD:PUBLISH
X-PUBLISHED-TTL:P3D
REFRESH-INTERVAL:P3D
CALSCALE:GREGORIAN
BEGIN:VEVENT
DTSTART:20190615T020000Z
DTEND:20190615T030000Z
X-MICROSOFT-CDO-ALLDAYEVENT:FALSE
SUMMARY:Day of African-American Freedom Juneteenth
DESCRIPTION:South Chandler Self Help and the City of Chandler Celebrate Day of African-American Freedom Juneteenth
X-ALT-DESC;FMTTYPE=text/html:South Chandler Self Help and the City of Chandler Celebrate Day of African-American Freedom Juneteenth
LOCATION:Chandler Center For The Arts 250 N. Arizona Ave Chandler\, AZ
UID:e.1561.36745
SEQUENCE:3
DTSTAMP:20260423T021207Z
URL:https://business.chandlerchamber.com/events/details/day-of-african-american-freedom-juneteenth-36745
END:VEVENT

END:VCALENDAR
