BEGIN:VCALENDAR
VERSION:2.0
PRODID:-//ChamberMaster//Event Calendar 2.0//EN
METHOD:PUBLISH
X-PUBLISHED-TTL:P3D
REFRESH-INTERVAL:P3D
CALSCALE:GREGORIAN
BEGIN:VEVENT
DTSTART:20191022T190000Z
DTEND:20191023T200000Z
X-MICROSOFT-CDO-ALLDAYEVENT:FALSE
SUMMARY:DBE and Small Business Conference
DESCRIPTION:Are You Ready? The 2019 ADOT DBE and Small Business Conference is October 22-23\, 2019 to Tucson. This year\, The Spotlight Is On YOU! The Conference will help set the stage for your success. October 22: Pre-Conference day packed with opportunities to get you ready for your starring role Dress Rehearsal   Orientation program for new DBEs or companies considering becoming DBEs Casting Call- Popular 15-minute speed appointments with agencies and primes Meet the Crew -Speak with ADOT DBESS team members and discover ADOT programs designed to help you build your business Intermission   Mix and mingle at the Networking Mixer Awards Reception   Honor acclaimed performers and Business Development Program graduates October 23: The stage is yours! 300 attendees expected Nine workshops focus on People Power\, Smart Transportation and Finding Projects A Prime panel discussion includes Q&A A special networking session for Primes Keynote speaker shares success on the big stage Networking opportunities galore And more surprises
X-ALT-DESC;FMTTYPE=text/html:Are You Ready? The 2019 ADOT DBE and Small Business Conference is October 22-23\, 2019 to Tucson. This year\, The Spotlight Is On YOU! The Conference will help set the stage for your success. October 22: Pre-Conference day packed with opportunities to get you ready for your starring role Dress Rehearsal &ndash\; Orientation program for new DBEs or companies considering becoming DBEs Casting Call- Popular 15-minute speed appointments with agencies and primes Meet the Crew -Speak with ADOT DBESS team members and discover ADOT programs designed to help you build your business Intermission &ndash\; Mix and mingle at the Networking Mixer Awards Reception &ndash\; Honor acclaimed performers and Business Development Program graduates October 23: The stage is yours! 300 attendees expected Nine workshops focus on People Power\, Smart Transportation and Finding Projects A Prime panel discussion includes Q&amp\;A A special networking session for Primes Keynote speaker shares success on the big stage Networking opportunities galore And more surprises
LOCATION:Casino Del Sol Resort 5655 W. Valencia Rd. Tucson\, AZ 85757
UID:e.1561.37945
SEQUENCE:3
DTSTAMP:20260422T185434Z
URL:https://business.chandlerchamber.com/events/details/dbe-and-small-business-conference-37945
END:VEVENT

END:VCALENDAR
