BEGIN:VCALENDAR
VERSION:2.0
PRODID:-//ChamberMaster//Event Calendar 2.0//EN
METHOD:PUBLISH
X-PUBLISHED-TTL:P3D
REFRESH-INTERVAL:P3D
CALSCALE:GREGORIAN
BEGIN:VEVENT
DTSTART:20191221T010000Z
DTEND:20191221T040000Z
X-MICROSOFT-CDO-ALLDAYEVENT:FALSE
SUMMARY:DCCP Friday Night Live
DESCRIPTION:Friday Night Live\n\nWe're so excited to announce that we've partnered with Entertainment Solutions to produce Friday Night Live\, our brand new\, signature musical event. As a reminder\, this event takes place on the third Friday of every month\, October - May from 6 p.m. - 9 p.m. in the Downtown. Check out our awesome lineup!\n\n\n\nDec. 20 - Phoenix Boys Choir\n\nJan. 17 - The Rave\n\nFeb. 21 - Mogollon\n\nMarch 20 - Pearl Ridge\n\nApril 17 - Sugahbeat\n\nMay 15 - Shallow Water
X-ALT-DESC;FMTTYPE=text/html:<strong><span style="color:#202020\;"><span style="font-family:helvetica\,sans-serif\;"><span style="font-size:12.0pt\;">Friday Night Live</span></span></span></strong><br />\n<span style="color:#202020\;"><span style="font-family:helvetica\,sans-serif\;"><span style="font-size:12.0pt\;">We&#39\;re so excited to announce that we&#39\;ve partnered with Entertainment Solutions to produce Friday Night Live\, our brand new\, signature musical event. As a reminder\, this event takes place on the third Friday of every month\, October - May from 6 p.m. - 9 p.m. in the Downtown. Check out our awesome lineup!<br />\n<br />\nDec. 20 - Phoenix Boys Choir<br />\nJan. 17 - The Rave<br />\nFeb. 21 - Mogollon<br />\nMarch 20 - Pearl Ridge<br />\nApril 17 - Sugahbeat<br />\nMay 15 - Shallow Water</span></span></span>
LOCATION:Down Town Chandler
UID:e.1561.36825
SEQUENCE:3
DTSTAMP:20260421T033030Z
URL:https://business.chandlerchamber.com/events/details/dccp-friday-night-live-36825
END:VEVENT

END:VCALENDAR
