BEGIN:VCALENDAR
VERSION:2.0
PRODID:-//ChamberMaster//Event Calendar 2.0//EN
METHOD:PUBLISH
X-PUBLISHED-TTL:P3D
REFRESH-INTERVAL:P3D
CALSCALE:GREGORIAN
BEGIN:VEVENT
DTSTART:20190720T180000Z
DTEND:20190720T210000Z
X-MICROSOFT-CDO-ALLDAYEVENT:FALSE
SUMMARY:Demonstration Day
DESCRIPTION:11am-2pm Drop-in Great for ages 6-12 Saguaro Room Demonstration Day- Experience a historical craft\, demonstration\, or performance with our special guests July 20- Quilting with the Nimble Thimbles
X-ALT-DESC;FMTTYPE=text/html:11am-2pm Drop-in Great for ages 6-12 Saguaro Room Demonstration Day- Experience a historical craft\, demonstration\, or performance with our special guests July 20- Quilting with the Nimble Thimbles
LOCATION:Chandler Museum
UID:e.1561.36761
SEQUENCE:3
DTSTAMP:20260422T230432Z
URL:https://business.chandlerchamber.com/events/details/demonstration-day-07-20-2019-36761
END:VEVENT

END:VCALENDAR
