BEGIN:VCALENDAR
VERSION:2.0
PRODID:-//ChamberMaster//Event Calendar 2.0//EN
METHOD:PUBLISH
X-PUBLISHED-TTL:P3D
REFRESH-INTERVAL:P3D
CALSCALE:GREGORIAN
BEGIN:VEVENT
DTSTART:20191116T180000Z
DTEND:20191116T210000Z
X-MICROSOFT-CDO-ALLDAYEVENT:FALSE
SUMMARY:Demonstration Day
DESCRIPTION:Embroidery with Evelyn Johnson
X-ALT-DESC;FMTTYPE=text/html:Embroidery with Evelyn Johnson
LOCATION:Chandler Museum
UID:e.1561.37954
SEQUENCE:3
DTSTAMP:20260423T135429Z
URL:https://business.chandlerchamber.com/events/details/demonstration-day-11-16-2019-37954
END:VEVENT

END:VCALENDAR
