BEGIN:VCALENDAR
VERSION:2.0
PRODID:-//ChamberMaster//Event Calendar 2.0//EN
METHOD:PUBLISH
X-PUBLISHED-TTL:P3D
REFRESH-INTERVAL:P3D
CALSCALE:GREGORIAN
BEGIN:VEVENT
DTSTART:20200118T180000Z
DTEND:20200118T210000Z
X-MICROSOFT-CDO-ALLDAYEVENT:FALSE
SUMMARY:Demonstration Day- Between the Folds presented by the AZ Origami Society
DESCRIPTION:This program allows participants to learn about the art of origami\, the relevance of certain shapes in Asian culture and then try your hand at your own paper creation!
X-ALT-DESC;FMTTYPE=text/html:This program allows participants to learn about the art of origami\, the relevance of certain shapes in Asian culture and then try your hand at your own paper creation!
LOCATION:Chandler Museum
UID:e.1561.38581
SEQUENCE:3
DTSTAMP:20260420T152439Z
URL:https://business.chandlerchamber.com/events/details/demonstration-day-between-the-folds-presented-by-the-az-origami-society-38581
END:VEVENT

END:VCALENDAR
