BEGIN:VCALENDAR
VERSION:2.0
PRODID:-//ChamberMaster//Event Calendar 2.0//EN
METHOD:PUBLISH
X-PUBLISHED-TTL:P3D
REFRESH-INTERVAL:P3D
CALSCALE:GREGORIAN
BEGIN:VEVENT
DTSTART:20190518T180000Z
DTEND:20190518T210000Z
X-MICROSOFT-CDO-ALLDAYEVENT:FALSE
SUMMARY:Demonstration Day: Chandler Museum
DESCRIPTION:Experience a craft\, demonstration or performance with our special guest. In May\, we feature Royce Manuel\, as he presents The River People's Landscape.
X-ALT-DESC;FMTTYPE=text/html:Experience a craft\, demonstration or performance with our special guest. In May\, we feature Royce Manuel\, as he presents The River People&#39\;s Landscape.
LOCATION:Chandler Museum: 300 S. Chandler Village Drive 85226
UID:e.1561.36692
SEQUENCE:3
DTSTAMP:20260423T020954Z
URL:https://business.chandlerchamber.com/events/details/demonstration-day-chandler-museum-36692
END:VEVENT

END:VCALENDAR
