BEGIN:VCALENDAR
VERSION:2.0
PRODID:-//ChamberMaster//Event Calendar 2.0//EN
METHOD:PUBLISH
X-PUBLISHED-TTL:P3D
REFRESH-INTERVAL:P3D
CALSCALE:GREGORIAN
BEGIN:VEVENT
DTSTART:20190316T180000Z
DTEND:20190316T210000Z
X-MICROSOFT-CDO-ALLDAYEVENT:FALSE
SUMMARY:Demonstration Day: Fly Tying
DESCRIPTION:Learn about the history and hatches of fly tying\, and try your hand at making your own for the big catch!
X-ALT-DESC;FMTTYPE=text/html:Learn about the history and hatches of fly tying\, and try your hand at making your own for the big catch!
LOCATION:Chandler Museum : 300 S. Chandler Village Drive 85226
UID:e.1561.36402
SEQUENCE:3
DTSTAMP:20260423T045204Z
URL:https://business.chandlerchamber.com/events/details/demonstration-day-fly-tying-36402
END:VEVENT

END:VCALENDAR
