BEGIN:VCALENDAR
VERSION:2.0
PRODID:-//ChamberMaster//Event Calendar 2.0//EN
METHOD:PUBLISH
X-PUBLISHED-TTL:P3D
REFRESH-INTERVAL:P3D
CALSCALE:GREGORIAN
BEGIN:VEVENT
DTSTART:20200321T180000Z
DTEND:20200321T210000Z
X-MICROSOFT-CDO-ALLDAYEVENT:FALSE
SUMMARY:Demonstration Day- For the Love of Turquoise with Carrie Cannon
DESCRIPTION:Carrie Cannon\, a member of the Kiowa tribe speaks to how this blue-to-green gemstone serves as a long standing tradition amongst Native cultures of the Southwest. Come see her demonstration of turquoise in various forms and learn of the profound meaning it holds to individual tribes. This program is made possible by Arizona Humanities.
X-ALT-DESC;FMTTYPE=text/html:Carrie Cannon\, a member of the Kiowa tribe speaks to how this blue-to-green gemstone serves as a long standing tradition amongst Native cultures of the Southwest. Come see her demonstration of turquoise in various forms and learn of the profound meaning it holds to individual tribes. This program is made possible by Arizona Humanities.
LOCATION:Chandler Museum
UID:e.1561.38810
SEQUENCE:3
DTSTAMP:20260424T163929Z
URL:https://business.chandlerchamber.com/events/details/demonstration-day-for-the-love-of-turquoise-with-carrie-cannon-38810
END:VEVENT

END:VCALENDAR
