BEGIN:VCALENDAR
VERSION:2.0
PRODID:-//ChamberMaster//Event Calendar 2.0//EN
METHOD:PUBLISH
X-PUBLISHED-TTL:P3D
REFRESH-INTERVAL:P3D
CALSCALE:GREGORIAN
BEGIN:VEVENT
DTSTART:20241013T010000Z
DTEND:20241013T040000Z
X-MICROSOFT-CDO-ALLDAYEVENT:FALSE
SUMMARY:Diaspora Showcase Africa
DESCRIPTION:A world class line-up of models\, artists\, and designers come to Tucson to feature the music\, food\, dance\, and fashion of Africa in an unforgettable experience.
X-ALT-DESC;FMTTYPE=text/html:A world class line-up of models\, artists\, and designers come to Tucson to feature the music\, food\, dance\, and fashion of Africa in an unforgettable experience.
LOCATION:Pima Community College - Center for the Arts 2202 West Anklam Road Tucson\, AZ 85709
UID:e.1561.50648
SEQUENCE:3
DTSTAMP:20260420T112708Z
URL:https://business.chandlerchamber.com/events/details/diaspora-showcase-africa-50648
END:VEVENT

END:VCALENDAR
