BEGIN:VCALENDAR
VERSION:2.0
PRODID:-//ChamberMaster//Event Calendar 2.0//EN
METHOD:PUBLISH
X-PUBLISHED-TTL:P3D
REFRESH-INTERVAL:P3D
CALSCALE:GREGORIAN
BEGIN:VEVENT
DTSTART:20180421T010000Z
DTEND:20180421T030000Z
X-MICROSOFT-CDO-ALLDAYEVENT:FALSE
SUMMARY:Dinner and Wine night
DESCRIPTION:Hosted by Down Time Wines\, catered by Serrano's fine Mexican Food. $25 includes dinner\, glass or flight of Down Time Wines and raffle ticket for special gift. Come join us!
X-ALT-DESC;FMTTYPE=text/html:Hosted by Down Time Wines\, catered by Serrano&#39\;s fine Mexican Food. $25 includes dinner\, glass or flight of Down Time Wines and raffle ticket for special gift. Come join us!
LOCATION:Down Time Wines 393 W. Warner Road\, Suite 109 Chandler\, AZ 85225 call for reservation 480-319-1774
UID:e.1561.33632
SEQUENCE:3
DTSTAMP:20260423T193019Z
URL:https://business.chandlerchamber.com/events/details/dinner-and-wine-night-33632
END:VEVENT

END:VCALENDAR
