BEGIN:VCALENDAR
VERSION:2.0
PRODID:-//ChamberMaster//Event Calendar 2.0//EN
METHOD:PUBLISH
X-PUBLISHED-TTL:P3D
REFRESH-INTERVAL:P3D
CALSCALE:GREGORIAN
BEGIN:VEVENT
DTSTART:20170920T180000Z
DTEND:20170920T200000Z
X-MICROSOFT-CDO-ALLDAYEVENT:FALSE
SUMMARY:“DIRTY MONEY: ETHICS IN FUNDRAISING”
DESCRIPTION:"Is there such a thing as "dirty" money? What measures are in place to ensure funds are used according to a donor's intent? Is there anything wrong with paying a commission to fund raisers? For many fundraising professionals\, the answers to these questions may seem simple until you confront them head-on in a real life scenario. Come join us for a lively program addressing the real world of ethics and fundraising. Bring your energy\, your experiences\, your common sense\, and sense of humor for this fun and informative presentation."
X-ALT-DESC;FMTTYPE=text/html:&quot\;Is there such a thing as &ldquo\;dirty&rdquo\; money? What measures are in place to ensure funds are used according to a donor&rsquo\;s intent? Is there anything wrong with paying a commission to fund raisers? For many fundraising professionals\, the answers to these questions may seem simple&hellip\;until you confront them head-on in a real life scenario. Come join us for a lively program addressing the real world of ethics and fundraising. Bring your energy\, your experiences\, your common sense\, and sense of humor for this fun and informative presentation.&quot\;
LOCATION:Chandler Fashion Mall Community Room The community room is located off the food court just past the bathrooms on the Panera bread side of the food court. Look for the big CFAC sign!
UID:e.1561.19146
SEQUENCE:3
DTSTAMP:20260424T051119Z
URL:https://business.chandlerchamber.com/events/details/dirty-money-ethics-in-fundraising-19146
END:VEVENT

END:VCALENDAR
