BEGIN:VCALENDAR
VERSION:2.0
PRODID:-//ChamberMaster//Event Calendar 2.0//EN
METHOD:PUBLISH
X-PUBLISHED-TTL:P3D
REFRESH-INTERVAL:P3D
CALSCALE:GREGORIAN
BEGIN:VEVENT
DTSTART:20190508T220000Z
DTEND:20190508T230000Z
X-MICROSOFT-CDO-ALLDAYEVENT:FALSE
SUMMARY:Diversity and Inclusion Committee Meeting
DESCRIPTION:DIversity and Inclusion Committee Meeting
X-ALT-DESC;FMTTYPE=text/html:DIversity and Inclusion Committee Meeting
LOCATION:Chandler Chamber of Commerce 25 S Arizona Place\, Suite 201 Chandler\, AZ 85225
UID:e.1561.35950
SEQUENCE:3
DTSTAMP:20260423T021126Z
URL:https://business.chandlerchamber.com/events/details/diversity-and-inclusion-committee-meeting-35950
END:VEVENT

END:VCALENDAR
