BEGIN:VCALENDAR
VERSION:2.0
PRODID:-//ChamberMaster//Event Calendar 2.0//EN
METHOD:PUBLISH
X-PUBLISHED-TTL:P3D
REFRESH-INTERVAL:P3D
CALSCALE:GREGORIAN
BEGIN:VEVENT
DTSTART:20190403T150000Z
DTEND:20190403T163000Z
X-MICROSOFT-CDO-ALLDAYEVENT:FALSE
SUMMARY:Diversity and Inclusion Round Table- April 2019
DESCRIPTION:This series of roundtable discussions will focus on ways to work together to promote the importance of diversity and inclusion within Chandler businesses. \n\nIn April\, a panel of educators will discuss how they are preparing the youth for diversity in the workforce. \n\n\nCLICK HERE for the Chandler Chamber Cultural Event Calendar\n.
X-ALT-DESC;FMTTYPE=text/html:<span style="display: inline !important\; float: none\; background-color: transparent\; color: rgb(51\, 51\, 51)\; font-family: Ubuntu\,Helvetica\,Arial\,sans-serif\; font-size: 15px\; font-style: normal\; font-variant: normal\; font-weight: 400\; letter-spacing: normal\; orphans: 2\; text-align: left\; text-decoration: none\; text-indent: 0px\; text-transform: none\; -webkit-text-stroke-width: 0px\; white-space: normal\; word-spacing: 0px\;">This series of roundtable discussions will focus on ways to work together to promote the importance of diversity and inclusion within Chandler businesses.&nbsp\;<br />\nIn April\, a panel of educators will discuss how they are preparing the youth for diversity in the workforce.&nbsp\;</span>\n<div><br />\n<span style="font-size:18px\;"><span style="font-family:arial narrow\,sans-serif\;"><a href="http://business.chandlerchamber.com/events/calendar/?c=13&amp\;_ga=2.212245716.119050825.1543249537-1952550525.1498681225"><span style="color:#0000FF\;">CLICK HERE</span></a></span><span style="color:#323232\;"><span style="font-family:arial narrow\,sans-serif\;"> for the Chandler Chamber Cultural Event Calendar</span></span></span></div>\n<span style="display: inline !important\; float: none\; background-color: transparent\; color: rgb(51\, 51\, 51)\; font-family: Ubuntu\,Helvetica\,Arial\,sans-serif\; font-size: 15px\; font-style: normal\; font-variant: normal\; font-weight: 400\; letter-spacing: normal\; orphans: 2\; text-align: left\; text-decoration: none\; text-indent: 0px\; text-transform: none\; -webkit-text-stroke-width: 0px\; white-space: normal\; word-spacing: 0px\;">.</span>
LOCATION:Chandler Chamber of Commerce 25 S Arizona Pl.\, Suite 201 Chandler\, AZ 85225
UID:e.1561.35926
SEQUENCE:3
DTSTAMP:20260423T033212Z
URL:https://business.chandlerchamber.com/events/details/diversity-and-inclusion-round-table-april-2019-35926
END:VEVENT

END:VCALENDAR
