BEGIN:VCALENDAR
VERSION:2.0
PRODID:-//ChamberMaster//Event Calendar 2.0//EN
METHOD:PUBLISH
X-PUBLISHED-TTL:P3D
REFRESH-INTERVAL:P3D
CALSCALE:GREGORIAN
BEGIN:VEVENT
DTSTART:20200624T150000Z
DTEND:20200624T163000Z
X-MICROSOFT-CDO-ALLDAYEVENT:FALSE
SUMMARY:Diversity and Inclusion Round Table- June 2020
DESCRIPTION:Please click the link below to join the webinar:\n\nhttps://us02web.zoom.us/j/84419510236?pwd=THpRZHhMRDNqRjByUkxCYVNraGZNQT09 \n\nPassword: 610674\n\nOr iPhone one-tap :\n\n    US: +16699009128\,\,84419510236#  or +12532158782\,\,84419510236#\n\nOr Telephone:\n\n    Dial(for higher quality\, dial a number based on your current location):\n\n        US: +1 669 900 9128  or +1 253 215 8782  or +1 346 248 7799  or +1 646 558 8656  or +1 301 715 8592  or +1 312 626 6799\n\n    Webinar ID: 844 1951 0236\n\n    International numbers available: https://us02web.zoom.us/u/kdP6KHumh5\n\n \nThis series of roundtable discussions will focus on ways to work together to promote the importance of diversity and inclusion within Chandler businesses. \n\n\n\nDr. Cindy Banton will present on the Benefits of Diversity that will attract a more diverse workforce. She will discuss the importance of how Diversity and Inclusion can help achieve goals\, equal pay\, diversity in age\, how to measure diversity and much more! She will also discuss keys to address and manage conflict with interactive activities.\n\n\n\nCLICK HERE for the Chandler Chamber Cultural Event Calendar\n.
X-ALT-DESC;FMTTYPE=text/html:<div>Please click the link below to join the webinar:<br />\nhttps://us02web.zoom.us/j/84419510236?pwd=THpRZHhMRDNqRjByUkxCYVNraGZNQT09&nbsp\;<br />\nPassword: 610674</div>\n\n<div>Or iPhone one-tap :<br />\n&nbsp\;&nbsp\;&nbsp\; US: +16699009128\,\,84419510236#&nbsp\; or +12532158782\,\,84419510236#<br />\nOr Telephone:<br />\n&nbsp\;&nbsp\;&nbsp\; Dial(for higher quality\, dial a number based on your current location):<br />\n&nbsp\;&nbsp\;&nbsp\;&nbsp\;&nbsp\;&nbsp\;&nbsp\; US: +1 669 900 9128&nbsp\; or +1 253 215 8782&nbsp\; or +1 346 248 7799&nbsp\; or +1 646 558 8656&nbsp\; or +1 301 715 8592&nbsp\; or +1 312 626 6799<br />\n&nbsp\;&nbsp\;&nbsp\; Webinar ID: 844 1951 0236<br />\n&nbsp\;&nbsp\;&nbsp\; International numbers available: https://us02web.zoom.us/u/kdP6KHumh5<br />\n&nbsp\;</div>\n<span style="display: inline !important\; float: none\; background-color: transparent\; color: rgb(51\, 51\, 51)\; font-family: Ubuntu\,Helvetica\,Arial\,sans-serif\; font-size: 15px\; font-style: normal\; font-variant: normal\; font-weight: 400\; letter-spacing: normal\; orphans: 2\; text-align: left\; text-decoration: none\; text-indent: 0px\; text-transform: none\; -webkit-text-stroke-width: 0px\; white-space: normal\; word-spacing: 0px\;">This series of roundtable discussions will focus on ways to work together to promote the importance of diversity and inclusion within Chandler businesses.&nbsp\;<br />\n<br />\nDr. Cindy Banton will present on the Benefits of Diversity that will attract a more diverse workforce. She will discuss the importance of how Diversity and Inclusion can help achieve goals\, equal pay\, diversity in age\, how to measure diversity and much more! She will also discuss keys to address and manage conflict with interactive activities.</span>\n\n<div><br />\n<span style="font-size:18px\;"><span style="font-family:arial narrow\,sans-serif\;"><a href="http://business.chandlerchamber.com/events/calendar/?c=13&amp\;_ga=2.212245716.119050825.1543249537-1952550525.1498681225"><span style="color:#0000FF\;">CLICK HERE</span></a></span><span style="color:#323232\;"><span style="font-family:arial narrow\,sans-serif\;"> for the Chandler Chamber Cultural Event Calendar</span></span></span></div>\n<span style="display: inline !important\; float: none\; background-color: transparent\; color: rgb(51\, 51\, 51)\; font-family: Ubuntu\,Helvetica\,Arial\,sans-serif\; font-size: 15px\; font-style: normal\; font-variant: normal\; font-weight: 400\; letter-spacing: normal\; orphans: 2\; text-align: left\; text-decoration: none\; text-indent: 0px\; text-transform: none\; -webkit-text-stroke-width: 0px\; white-space: normal\; word-spacing: 0px\;">.</span>
LOCATION:After you register\, a confirmation email will be sent to you with directions on how to access the Zoom Webinar.
UID:e.1561.38123
SEQUENCE:3
DTSTAMP:20260424T181842Z
URL:https://business.chandlerchamber.com/events/details/diversity-and-inclusion-round-table-june-2020-38123
END:VEVENT

END:VCALENDAR
