BEGIN:VCALENDAR
VERSION:2.0
PRODID:-//ChamberMaster//Event Calendar 2.0//EN
METHOD:PUBLISH
X-PUBLISHED-TTL:P3D
REFRESH-INTERVAL:P3D
CALSCALE:GREGORIAN
BEGIN:VEVENT
DTSTART:20200422T160000Z
DTEND:20200422T173000Z
X-MICROSOFT-CDO-ALLDAYEVENT:FALSE
SUMMARY:Diversity and Inclusion Round Table- VIRTUAL ZOOM EVENT
DESCRIPTION:9:00 AM Arizona Time\n\nOrganizations are becoming progressively more global.  A company's success can depend on its ability to leverage cultural differences and attract talent beyond the U.S. borders.  As this war on talent ensues\, companies are sourcing jobs in non-established locations. As with local employees\, those working abroad are focused on career development\, competitive wages and benefit packages and a proper work-life balance.\n\n\n\nDiscover how needs such as assessing international staffing early and often\, understanding your International markets and building your professional network will benefit your company later in the process at our April 22nd Zoom round table.\n\n\n\nThis series of roundtable discussions will focus on ways to work together to promote the importance of diversity and inclusion within Chandler businesses. \n\n\n\nOnce you register for this event\, a confirmation email will be sent to you with directions to access the Zoom Webinar. \nPlease click the link below to join the webinar:\n\nhttps://zoom.us/j/657380018\n\nOr iPhone one-tap :\n\n    US: +13462487799\,\,657380018#  or +16699009128\,\,657380018#\n\nOr Telephone:\n\n    Dial(for higher quality\, dial a number based on your current location):\n\n        US: +1 346 248 7799  or +1 669 900 9128  or +1 312 626 6799  or +1 646 558 8656  or +1 253 215 8782  or +1 301 715 8592\n\n    Webinar ID: 657 380 018\n\n    International numbers available: https://zoom.us/u/aV2y43PyA\n\n\n\nCLICK HERE for the Chandler Chamber Cultural Event Calendar
X-ALT-DESC;FMTTYPE=text/html:<span style="font-size: medium\;"><span style="font-family: calibri\;"><span style="color: rgb(0\, 0\, 205)\;"><span style="font-size: 20px\;"><strong>9:00 AM Arizona Time</strong></span></span><br />\nOrganizations are becoming progressively more global.&nbsp\; A company&rsquo\;s success can depend on its ability to leverage cultural differences and attract talent beyond the U.S. borders.&nbsp\; As this war on talent ensues\, companies are sourcing jobs in non-established locations. As with local employees\, those working abroad are focused on career development\, competitive wages and benefit packages and a proper work-life balance.<br />\n<br />\nDiscover how needs such as assessing international staffing early and often\, understanding your International markets and building your professional network will benefit your company later in the process at our April 22<sup><span style="font-size: small\;">nd</span></sup> Zoom round table.</span></span><br />\n<br />\n<span style="text-align: left\; color: rgb(51\, 51\, 51)\; text-transform: none\; text-indent: 0px\; letter-spacing: normal\; font-family: Ubuntu\,Helvetica\,Arial\,sans-serif\; font-size: 15px\; font-style: normal\; font-variant: normal\; font-weight: 400\; text-decoration: none\; word-spacing: 0px\; float: none\; display: inline !important\; white-space: normal\; orphans: 2\; background-color: transparent\; -webkit-text-stroke-width: 0px\;">This series of roundtable discussions will focus on ways to work together to promote the importance of diversity and inclusion within Chandler businesses.&nbsp\;<br />\n<br />\nOnce you register for this event\, a confirmation email will be sent to you with directions to access the Zoom Webinar. </span>\n<p>Please click the link below to join the webinar:<br />\n<a href="https://zoom.us/j/657380018"><font color="#0066cc">https://zoom.us/j/657380018</font></a></p>\n\n<p>Or iPhone one-tap :<br />\n&nbsp\;&nbsp\;&nbsp\; US: +13462487799\,\,657380018#&nbsp\; or +16699009128\,\,657380018#<br />\nOr Telephone:<br />\n&nbsp\;&nbsp\;&nbsp\; Dial(for higher quality\, dial a number based on your current location):<br />\n&nbsp\;&nbsp\;&nbsp\;&nbsp\;&nbsp\;&nbsp\;&nbsp\; US: +1 346 248 7799&nbsp\; or +1 669 900 9128&nbsp\; or +1 312 626 6799&nbsp\; or +1 646 558 8656&nbsp\; or +1 253 215 8782&nbsp\; or +1 301 715 8592<br />\n&nbsp\;&nbsp\;&nbsp\; Webinar ID: 657 380 018<br />\n&nbsp\;&nbsp\;&nbsp\; International numbers available: <a href="https://zoom.us/u/aV2y43PyA"><font color="#0066cc">https://zoom.us/u/aV2y43PyA</font></a></p>\n\n<div><br />\n<span style="font-size: 18px\;"><span style="font-family: arial narrow\,sans-serif\;"><a href="http://business.chandlerchamber.com/events/calendar/?c=13&amp\;_ga=2.212245716.119050825.1543249537-1952550525.1498681225"><span style="color: rgb(0\, 0\, 255)\;">CLICK HERE</span></a></span><span style="color: rgb(50\, 50\, 50)\;"><span style="font-family: arial narrow\,sans-serif\;"> for the Chandler Chamber Cultural Event Calendar</span></span></span><br />\n<br />\n<br />\n<br />\n&nbsp\;</div>\n
LOCATION:VIRTUAL EVENT- Shared electronically
UID:e.1561.38120
SEQUENCE:3
DTSTAMP:20260424T150239Z
URL:https://business.chandlerchamber.com/events/details/diversity-and-inclusion-round-table-virtual-zoom-event-38120
END:VEVENT

END:VCALENDAR
