BEGIN:VCALENDAR
VERSION:2.0
PRODID:-//ChamberMaster//Event Calendar 2.0//EN
METHOD:PUBLISH
X-PUBLISHED-TTL:P3D
REFRESH-INTERVAL:P3D
CALSCALE:GREGORIAN
BEGIN:VEVENT
DTSTART:20210525T150000Z
DTEND:20210525T163000Z
X-MICROSOFT-CDO-ALLDAYEVENT:FALSE
SUMMARY:Diversity Equity & Inclusion Roundtable- May 2021
DESCRIPTION:Chandler's AAPI Community: A Learning Journey\n\n\n\nOn Tuesday\, May 25th the Diversity\, Equity and Inclusion Committee will host its next Roundtable   a panel discussion on AAPI culture and its impact in Chandler.  Please plan to join us for this engaging and informative discussion.  \n\n\n\n\n\nCLICK HERE to read more about the ongoing initiatives of the Chandler Chamber Diversity\, Equity & Inclusion Committee.
X-ALT-DESC;FMTTYPE=text/html:<em><span style="font-family: calibri\, sans-serif\;"><span style="font-size: 11pt\;"><span style="font-size: 22px\;"><strong>Chandler&#39\;s AAPI Community: A Learning Journey</strong></span></span></span></em><br />\n<br />\n<span style="color:#555555\;">On Tuesday\, May 25<sup>th</sup> the Diversity\, Equity and Inclusion Committee will host its next Roundtable &ndash\; a panel discussion on AAPI culture and its impact in Chandler.&nbsp\; Please plan to join us for this engaging and informative discussion.&nbsp\; </span><br />\n<br />\n<br />\n<strong><a href="https://www.chandlerchamber.com/diversity-inclusion/">CLICK HERE</a> to read more about the ongoing initiatives of the Chandler Chamber Diversity\, Equity &amp\; Inclusion Committee.</strong><br />\n<br />\n<br />\n&nbsp\;
LOCATION:Virtual Event Held on Zoom
UID:e.1561.39718
SEQUENCE:3
DTSTAMP:20260424T034327Z
URL:https://business.chandlerchamber.com/events/details/diversity-equity-inclusion-roundtable-may-2021-39718
END:VEVENT

END:VCALENDAR
