BEGIN:VCALENDAR
VERSION:2.0
PRODID:-//ChamberMaster//Event Calendar 2.0//EN
METHOD:PUBLISH
X-PUBLISHED-TTL:P3D
REFRESH-INTERVAL:P3D
CALSCALE:GREGORIAN
BEGIN:VEVENT
DTSTART:20190626T150000Z
DTEND:20190626T163000Z
X-MICROSOFT-CDO-ALLDAYEVENT:FALSE
SUMMARY:Diversity & Inclusion Round Table
DESCRIPTION:This series of roundtable discussions will focus on ways to work together to promote the importance of diversity and inclusion within Chandler businesses. \n\n\n\nInteractive Training for Diversity and Inclusion\nParticipate in this session that looks at training exercises emphasizing the power of observation and introducing unconscious bias and a revealing exercise called Insider-Outsider.
X-ALT-DESC;FMTTYPE=text/html:<span style="font-family: Ubuntu\, Helvetica\, Arial\, sans-serif\; font-size: 15px\;">This series of roundtable discussions will focus on ways to work together to promote the importance of diversity and inclusion within Chandler businesses.&nbsp\;</span><br />\n<br />\n<span style="font-family: Tahoma\, Arial\, sans-serif\; font-size: 14.6667px\; text-align: center\; background-color: rgb(255\, 255\, 255)\; color: rgb(0\, 128\, 0)\;"><strong style="font-size: 11pt\;">Interactive Training for Diversity and Inclusion</strong></span>\n<div style="font-size: 10pt\;"><span style="font-family: Tahoma\, Arial\, sans-serif\; font-size: 14.6667px\; text-align: center\; background-color: rgb(255\, 255\, 255)\; color: rgb(76\, 76\, 76)\;"><strong style="font-size: 11pt\;">Participate in this session that looks at training exercises emphasizing the power of observation and introducing unconscious bias and a revealing exercise called Insider-Outsider.</strong></span></div>\n
LOCATION:Chandler Chamber of Commerce 25 S Arizona Place\, #201 Chandler\, AZ 85225
UID:e.1561.35889
SEQUENCE:3
DTSTAMP:20260423T003736Z
URL:https://business.chandlerchamber.com/events/details/diversity-inclusion-round-table-06-26-2019-35889
END:VEVENT

END:VCALENDAR
