BEGIN:VCALENDAR
VERSION:2.0
PRODID:-//ChamberMaster//Event Calendar 2.0//EN
METHOD:PUBLISH
X-PUBLISHED-TTL:P3D
REFRESH-INTERVAL:P3D
CALSCALE:GREGORIAN
BEGIN:VEVENT
DTSTART:20180627T153000Z
DTEND:20180627T163000Z
X-MICROSOFT-CDO-ALLDAYEVENT:FALSE
SUMMARY:Diversity & Inclusion Round Table - June 2018
DESCRIPTION:This series of roundtable discussions will focus on ways to work together to promote the importance of diversity and inclusion within Chandler businesses.
X-ALT-DESC;FMTTYPE=text/html:<span style="font-family: Ubuntu\, Helvetica\, Arial\, sans-serif\; font-size: 15px\;">This series of roundtable discussions will focus on ways to work together to promote the importance of diversity and inclusion within Chandler businesses.&nbsp\;</span>
LOCATION:Chandler Chamber of Commerce 25 S Arizona Place\, #201 Chandler\, AZ 85225
UID:e.1561.20928
SEQUENCE:3
DTSTAMP:20260423T175837Z
URL:https://business.chandlerchamber.com/events/details/diversity-inclusion-round-table-june-2018-20928
END:VEVENT

END:VCALENDAR
