BEGIN:VCALENDAR
VERSION:2.0
PRODID:-//ChamberMaster//Event Calendar 2.0//EN
METHOD:PUBLISH
X-PUBLISHED-TTL:P3D
REFRESH-INTERVAL:P3D
CALSCALE:GREGORIAN
BEGIN:VEVENT
DTSTART:20190518T010000Z
DTEND:20190518T030000Z
X-MICROSOFT-CDO-ALLDAYEVENT:FALSE
SUMMARY:Dobson Academy Community Bingo Night
DESCRIPTION:Come be a part of this free community event! Join us for an evening of fun\, prizes\, and food. Invite your friends\, family & neighbors. Any students who bring a guest gets a free bingo card!   50/50 Raffle Drawing\n\nFriday\, May 17th from 6pm to 8pm
X-ALT-DESC;FMTTYPE=text/html:Come be a part of this free community event! Join us for an evening of fun\, prizes\, and food. Invite your friends\, family &amp\; neighbors. Any students who bring a guest gets a free bingo card!&nbsp\; &nbsp\;50/50 Raffle Drawing<br />\nFriday\, May 17th from 6pm to 8pm&nbsp\;&nbsp\;&nbsp\;&nbsp\;&nbsp\;&nbsp\;&nbsp\;&nbsp\;&nbsp\;&nbsp\;&nbsp\;&nbsp\;
LOCATION:Dobson Academy 2207 N Dobson Rd Chandler AZ 85224 Bingo located in the Multi-Purpose Room
UID:e.1561.36729
SEQUENCE:3
DTSTAMP:20260423T020947Z
URL:https://business.chandlerchamber.com/events/details/dobson-academy-community-bingo-night-36729
END:VEVENT

END:VCALENDAR
