BEGIN:VCALENDAR
VERSION:2.0
PRODID:-//ChamberMaster//Event Calendar 2.0//EN
METHOD:PUBLISH
X-PUBLISHED-TTL:P3D
REFRESH-INTERVAL:P3D
CALSCALE:GREGORIAN
BEGIN:VEVENT
DTSTART:20191001T170000Z
DTEND:20191101T000000Z
X-MICROSOFT-CDO-ALLDAYEVENT:FALSE
SUMMARY:Docent Tours
DESCRIPTION:Free 45 minute tours led by our volunteer docents. The tour will give you insights into the architectural and artistic components of the museum campus as well as details about Chandler's history. Each Tuesday and Wednesday 10am-1pm\; Sunday 1-4pm
X-ALT-DESC;FMTTYPE=text/html:Free 45 minute tours led by our volunteer docents. The tour will give you insights into the architectural and artistic components of the museum campus as well as details about Chandler&rsquo\;s history. Each Tuesday and Wednesday 10am-1pm\; Sunday 1-4pm
LOCATION:Chandler Museum
UID:e.1561.36910
SEQUENCE:3
DTSTAMP:20260422T201557Z
URL:https://business.chandlerchamber.com/events/details/docent-tours-36910
END:VEVENT

END:VCALENDAR
